BEGIN:VCALENDAR
VERSION:2.0
PRODID:icalendar-ruby
CALSCALE:GREGORIAN
METHOD:PUBLISH
BEGIN:VEVENT
DTSTAMP:20260422T164425Z
UID:109-1554293@havenofhopekeyes.org
DTSTART;VALUE=DATE:20260726
DTEND;VALUE=DATE:20260730
CLASS:PUBLIC
CREATED:20260322T193802
DESCRIPTION:Family Camp is coming July 26th - 30th! Our special guest speak
 ers will be Evangelist Jared Clark and Pastor Kirk Powers.  The cost is $
 160.00 per camper.  See Sister Rashelle for more details. \nMake it a pr
 iority for you and your family to attend. You will not want to miss this t
 ime together!\n 
LAST-MODIFIED:20260322T193802
LOCATION:Camp Chinquapin at Pinecrest
SUMMARY:Family Camp
URL;VALUE=URI:https://havenofhopekeyes.org/events/family-camp/2026-07-26
ATTACH;FILENAME=camp.jpg;FMTTYPE=image/jpeg:https://dq5pwpg1q8ru0.cloudfron
 t.net/2026/03/23/02/38/01/35749c38-379c-44c4-a403-5b78b8d34dda/camp.jpg
END:VEVENT
END:VCALENDAR
