BEGIN:VCALENDAR
VERSION:2.0
PRODID:icalendar-ruby
CALSCALE:GREGORIAN
METHOD:PUBLISH
BEGIN:VEVENT
DTSTAMP:20260422T163603Z
UID:110-1711495@havenofhopekeyes.org
DTSTART:20260524T210000Z
DTEND:20260525T000000Z
CLASS:PUBLIC
CREATED:20260420T051933
DESCRIPTION:Mark your calendars for our upcoming Family Day on Sunday\, May
  24 at Snelling Park! Everyone is welcome so invite your family and friend
 s!\nMore details coming soon
LAST-MODIFIED:20260420T051933
LOCATION:Snelling Park 2641 Merced Falls Rd\, Snelling\, CA
SUMMARY:Family Day
URL;VALUE=URI:https://havenofhopekeyes.org/events/family-day--110/2026-05-2
 4
ATTACH;FILENAME=family-day.jpg;FMTTYPE=image/jpeg:https://dq5pwpg1q8ru0.clo
 udfront.net/2026/04/20/12/19/33/806134b0-5dfc-4019-93d2-f2b76490d57f/famil
 y-day.jpg
END:VEVENT
END:VCALENDAR
