BEGIN:VCALENDAR
VERSION:2.0
PRODID:icalendar-ruby
CALSCALE:GREGORIAN
METHOD:PUBLISH
BEGIN:VEVENT
DTSTAMP:20260423T034926Z
UID:85-1727311@havenofhopekeyes.org
DTSTART:20260605T010000Z
DTEND:20260605T030000Z
CLASS:PUBLIC
CREATED:20260422T194212
DESCRIPTION:
LAST-MODIFIED:20260422T194212
LOCATION:
SUMMARY:Hope in Christ Recovery
URL;VALUE=URI:https://havenofhopekeyes.org/events/hope-in-christ-recovery/2
 026-06-04
END:VEVENT
END:VCALENDAR
