BEGIN:VCALENDAR
VERSION:2.0
PRODID:icalendar-ruby
CALSCALE:GREGORIAN
METHOD:PUBLISH
BEGIN:VEVENT
DTSTAMP:20260423T132937Z
UID:85-1728253@havenofhopekeyes.org
DTSTART:20260710T010000Z
DTEND:20260710T030000Z
CLASS:PUBLIC
CREATED:20260423T051231
DESCRIPTION:
LAST-MODIFIED:20260423T051231
LOCATION:
SUMMARY:Hope in Christ Recovery
URL;VALUE=URI:https://havenofhopekeyes.org/events/hope-in-christ-recovery/2
 026-07-09
END:VEVENT
END:VCALENDAR
