BEGIN:VCALENDAR
VERSION:2.0
PRODID:icalendar-ruby
CALSCALE:GREGORIAN
METHOD:PUBLISH
BEGIN:VEVENT
DTSTAMP:20260423T151548Z
UID:85-1729191@havenofhopekeyes.org
DTSTART:20260717T010000Z
DTEND:20260717T030000Z
CLASS:PUBLIC
CREATED:20260423T080514
DESCRIPTION:
LAST-MODIFIED:20260423T080514
LOCATION:
SUMMARY:Hope in Christ Recovery
URL;VALUE=URI:https://havenofhopekeyes.org/events/hope-in-christ-recovery/2
 026-07-16
END:VEVENT
END:VCALENDAR
