BEGIN:VCALENDAR
VERSION:2.0
PRODID:icalendar-ruby
CALSCALE:GREGORIAN
METHOD:PUBLISH
BEGIN:VEVENT
DTSTAMP:20260423T184332Z
UID:85-1730130@havenofhopekeyes.org
DTSTART:20260731T010000Z
DTEND:20260731T030000Z
CLASS:PUBLIC
CREATED:20260423T110106
DESCRIPTION:
LAST-MODIFIED:20260423T110106
LOCATION:
SUMMARY:Hope in Christ Recovery
URL;VALUE=URI:https://havenofhopekeyes.org/events/hope-in-christ-recovery/2
 026-07-30
END:VEVENT
END:VCALENDAR
