BEGIN:VCALENDAR
VERSION:2.0
PRODID:icalendar-ruby
CALSCALE:GREGORIAN
METHOD:PUBLISH
BEGIN:VEVENT
DTSTAMP:20260423T223717Z
UID:85-1731069@havenofhopekeyes.org
DTSTART:20260814T010000Z
DTEND:20260814T030000Z
CLASS:PUBLIC
CREATED:20260423T135648
DESCRIPTION:
LAST-MODIFIED:20260423T135648
LOCATION:
SUMMARY:Hope in Christ Recovery
URL;VALUE=URI:https://havenofhopekeyes.org/events/hope-in-christ-recovery/2
 026-08-13
END:VEVENT
END:VCALENDAR
