BEGIN:VCALENDAR
VERSION:2.0
PRODID:icalendar-ruby
CALSCALE:GREGORIAN
METHOD:PUBLISH
BEGIN:VEVENT
DTSTAMP:20260424T093004Z
UID:85-1732948@havenofhopekeyes.org
DTSTART:20260918T010000Z
DTEND:20260918T030000Z
CLASS:PUBLIC
CREATED:20260423T194424
DESCRIPTION:
LAST-MODIFIED:20260423T194424
LOCATION:
SUMMARY:Hope in Christ Recovery
URL;VALUE=URI:https://havenofhopekeyes.org/events/hope-in-christ-recovery/2
 026-09-17
END:VEVENT
END:VCALENDAR
