BEGIN:VCALENDAR
VERSION:2.0
PRODID:icalendar-ruby
CALSCALE:GREGORIAN
METHOD:PUBLISH
BEGIN:VEVENT
DTSTAMP:20260424T135842Z
UID:85-1733887@havenofhopekeyes.org
DTSTART:20261002T010000Z
DTEND:20261002T030000Z
CLASS:PUBLIC
CREATED:20260424T051246
DESCRIPTION:
LAST-MODIFIED:20260424T051246
LOCATION:
SUMMARY:Hope in Christ Recovery
URL;VALUE=URI:https://havenofhopekeyes.org/events/hope-in-christ-recovery/2
 026-10-01
END:VEVENT
END:VCALENDAR
