BEGIN:VCALENDAR
VERSION:2.0
PRODID:icalendar-ruby
CALSCALE:GREGORIAN
METHOD:PUBLISH
BEGIN:VEVENT
DTSTAMP:20260424T161022Z
UID:85-1734826@havenofhopekeyes.org
DTSTART:20261009T010000Z
DTEND:20261009T030000Z
CLASS:PUBLIC
CREATED:20260424T080539
DESCRIPTION:
LAST-MODIFIED:20260424T080539
LOCATION:
SUMMARY:Hope in Christ Recovery
URL;VALUE=URI:https://havenofhopekeyes.org/events/hope-in-christ-recovery/2
 026-10-08
END:VEVENT
END:VCALENDAR
