BEGIN:VCALENDAR
VERSION:2.0
PRODID:icalendar-ruby
CALSCALE:GREGORIAN
METHOD:PUBLISH
BEGIN:VEVENT
DTSTAMP:20260424T195833Z
UID:85-1735766@havenofhopekeyes.org
DTSTART:20261023T010000Z
DTEND:20261023T030000Z
CLASS:PUBLIC
CREATED:20260424T105221
DESCRIPTION:
LAST-MODIFIED:20260424T105221
LOCATION:
SUMMARY:Hope in Christ Recovery
URL;VALUE=URI:https://havenofhopekeyes.org/events/hope-in-christ-recovery/2
 026-10-22
END:VEVENT
END:VCALENDAR
