BEGIN:VCALENDAR
VERSION:2.0
PRODID:icalendar-ruby
CALSCALE:GREGORIAN
METHOD:PUBLISH
BEGIN:VEVENT
DTSTAMP:20260425T000537Z
UID:85-1737644@havenofhopekeyes.org
DTSTART:20261106T020000Z
DTEND:20261106T040000Z
CLASS:PUBLIC
CREATED:20260424T162738
DESCRIPTION:
LAST-MODIFIED:20260424T162738
LOCATION:
SUMMARY:Hope in Christ Recovery
URL;VALUE=URI:https://havenofhopekeyes.org/events/hope-in-christ-recovery/2
 026-11-05
END:VEVENT
END:VCALENDAR
