BEGIN:VCALENDAR
VERSION:2.0
PRODID:icalendar-ruby
CALSCALE:GREGORIAN
METHOD:PUBLISH
BEGIN:VEVENT
DTSTAMP:20260423T204402Z
UID:11-1729758@havenofhopekeyes.org
DTSTART:20260806T010000Z
DTEND:20260806T030000Z
CLASS:PUBLIC
CREATED:20260423T110104
DESCRIPTION:Wednesday Night Prayer and Bible Study
LAST-MODIFIED:20260423T110104
LOCATION:5450 7th Street\, Keyes\, CA  95328
SUMMARY:Prayer and Bible Study
URL;VALUE=URI:https://havenofhopekeyes.org/events/prayer-and-bible-study/20
 26-08-05
END:VEVENT
END:VCALENDAR
