BEGIN:VCALENDAR
VERSION:2.0
PRODID:icalendar-ruby
CALSCALE:GREGORIAN
METHOD:PUBLISH
BEGIN:VEVENT
DTSTAMP:20260424T005154Z
UID:11-1731634@havenofhopekeyes.org
DTSTART:20260820T010000Z
DTEND:20260820T030000Z
CLASS:PUBLIC
CREATED:20260423T165007
DESCRIPTION:Wednesday Night Prayer and Bible Study
LAST-MODIFIED:20260423T165007
LOCATION:5450 7th Street\, Keyes\, CA  95328
SUMMARY:Prayer and Bible Study
URL;VALUE=URI:https://havenofhopekeyes.org/events/prayer-and-bible-study/20
 26-08-19
END:VEVENT
END:VCALENDAR
