BEGIN:VCALENDAR
VERSION:2.0
PRODID:icalendar-ruby
CALSCALE:GREGORIAN
METHOD:PUBLISH
BEGIN:VEVENT
DTSTAMP:20260424T064421Z
UID:11-1732574@havenofhopekeyes.org
DTSTART:20260910T010000Z
DTEND:20260910T030000Z
CLASS:PUBLIC
CREATED:20260423T194422
DESCRIPTION:Wednesday Night Prayer and Bible Study
LAST-MODIFIED:20260423T194422
LOCATION:5450 7th Street\, Keyes\, CA  95328
SUMMARY:Prayer and Bible Study
URL;VALUE=URI:https://havenofhopekeyes.org/events/prayer-and-bible-study/20
 26-09-09
END:VEVENT
END:VCALENDAR
