BEGIN:VCALENDAR
VERSION:2.0
PRODID:icalendar-ruby
CALSCALE:GREGORIAN
METHOD:PUBLISH
BEGIN:VEVENT
DTSTAMP:20260424T150331Z
UID:11-1733515@havenofhopekeyes.org
DTSTART:20261008T010000Z
DTEND:20261008T030000Z
CLASS:PUBLIC
CREATED:20260424T051245
DESCRIPTION:Wednesday Night Prayer and Bible Study
LAST-MODIFIED:20260424T051245
LOCATION:5450 7th Street\, Keyes\, CA  95328
SUMMARY:Prayer and Bible Study
URL;VALUE=URI:https://havenofhopekeyes.org/events/prayer-and-bible-study/20
 26-10-07
END:VEVENT
END:VCALENDAR
