BEGIN:VCALENDAR
VERSION:2.0
PRODID:icalendar-ruby
CALSCALE:GREGORIAN
METHOD:PUBLISH
BEGIN:VEVENT
DTSTAMP:20260424T185532Z
UID:11-1735393@havenofhopekeyes.org
DTSTART:20261022T010000Z
DTEND:20261022T030000Z
CLASS:PUBLIC
CREATED:20260424T105219
DESCRIPTION:Wednesday Night Prayer and Bible Study
LAST-MODIFIED:20260424T105219
LOCATION:5450 7th Street\, Keyes\, CA  95328
SUMMARY:Prayer and Bible Study
URL;VALUE=URI:https://havenofhopekeyes.org/events/prayer-and-bible-study/20
 26-10-21
END:VEVENT
END:VCALENDAR
