BEGIN:VCALENDAR
VERSION:2.0
PRODID:icalendar-ruby
CALSCALE:GREGORIAN
METHOD:PUBLISH
BEGIN:VEVENT
DTSTAMP:20260424T230051Z
UID:11-1736333@havenofhopekeyes.org
DTSTART:20261105T020000Z
DTEND:20261105T040000Z
CLASS:PUBLIC
CREATED:20260424T133944
DESCRIPTION:Wednesday Night Prayer and Bible Study
LAST-MODIFIED:20260424T133944
LOCATION:5450 7th Street\, Keyes\, CA  95328
SUMMARY:Prayer and Bible Study
URL;VALUE=URI:https://havenofhopekeyes.org/events/prayer-and-bible-study/20
 26-11-04
END:VEVENT
END:VCALENDAR
