BEGIN:VCALENDAR
VERSION:2.0
PRODID:icalendar-ruby
CALSCALE:GREGORIAN
METHOD:PUBLISH
BEGIN:VEVENT
DTSTAMP:20260423T132312Z
UID:89-1728304@havenofhopekeyes.org
DTSTART:20260711T160000Z
DTEND:20260711T170000Z
CLASS:PUBLIC
CREATED:20260423T051231
DESCRIPTION:
LAST-MODIFIED:20260423T051231
LOCATION:Sanctuary 5450 7th Street\, Keyes\, CA  95328
SUMMARY:Saturday 9AM Prayer Hour
URL;VALUE=URI:https://havenofhopekeyes.org/events/saturday-9am-prayer-hour/
 2026-07-11
END:VEVENT
END:VCALENDAR
