BEGIN:VCALENDAR
VERSION:2.0
PRODID:icalendar-ruby
CALSCALE:GREGORIAN
METHOD:PUBLISH
BEGIN:VEVENT
DTSTAMP:20260423T171219Z
UID:89-1729243@havenofhopekeyes.org
DTSTART:20260725T160000Z
DTEND:20260725T170000Z
CLASS:PUBLIC
CREATED:20260423T080515
DESCRIPTION:
LAST-MODIFIED:20260423T080515
LOCATION:Sanctuary 5450 7th Street\, Keyes\, CA  95328
SUMMARY:Saturday 9AM Prayer Hour
URL;VALUE=URI:https://havenofhopekeyes.org/events/saturday-9am-prayer-hour/
 2026-07-25
END:VEVENT
END:VCALENDAR
