BEGIN:VCALENDAR
VERSION:2.0
PRODID:icalendar-ruby
CALSCALE:GREGORIAN
METHOD:PUBLISH
BEGIN:VEVENT
DTSTAMP:20260423T210949Z
UID:89-1731119@havenofhopekeyes.org
DTSTART:20260808T160000Z
DTEND:20260808T170000Z
CLASS:PUBLIC
CREATED:20260423T135648
DESCRIPTION:
LAST-MODIFIED:20260423T135648
LOCATION:Sanctuary 5450 7th Street\, Keyes\, CA  95328
SUMMARY:Saturday 9AM Prayer Hour
URL;VALUE=URI:https://havenofhopekeyes.org/events/saturday-9am-prayer-hour/
 2026-08-08
END:VEVENT
END:VCALENDAR
