BEGIN:VCALENDAR
VERSION:2.0
PRODID:icalendar-ruby
CALSCALE:GREGORIAN
METHOD:PUBLISH
BEGIN:VEVENT
DTSTAMP:20260424T011631Z
UID:89-1732058@havenofhopekeyes.org
DTSTART:20260822T160000Z
DTEND:20260822T170000Z
CLASS:PUBLIC
CREATED:20260423T165008
DESCRIPTION:
LAST-MODIFIED:20260423T165008
LOCATION:Sanctuary 5450 7th Street\, Keyes\, CA  95328
SUMMARY:Saturday 9AM Prayer Hour
URL;VALUE=URI:https://havenofhopekeyes.org/events/saturday-9am-prayer-hour/
 2026-08-22
END:VEVENT
END:VCALENDAR
