BEGIN:VCALENDAR
VERSION:2.0
PRODID:icalendar-ruby
CALSCALE:GREGORIAN
METHOD:PUBLISH
BEGIN:VEVENT
DTSTAMP:20260424T052917Z
UID:89-1732997@havenofhopekeyes.org
DTSTART:20260905T160000Z
DTEND:20260905T170000Z
CLASS:PUBLIC
CREATED:20260423T194424
DESCRIPTION:
LAST-MODIFIED:20260423T194424
LOCATION:Sanctuary 5450 7th Street\, Keyes\, CA  95328
SUMMARY:Saturday 9AM Prayer Hour
URL;VALUE=URI:https://havenofhopekeyes.org/events/saturday-9am-prayer-hour/
 2026-09-05
END:VEVENT
END:VCALENDAR
