BEGIN:VCALENDAR
VERSION:2.0
PRODID:icalendar-ruby
CALSCALE:GREGORIAN
METHOD:PUBLISH
BEGIN:VEVENT
DTSTAMP:20260424T161022Z
UID:89-1734878@havenofhopekeyes.org
DTSTART:20261010T160000Z
DTEND:20261010T170000Z
CLASS:PUBLIC
CREATED:20260424T080539
DESCRIPTION:
LAST-MODIFIED:20260424T080539
LOCATION:Sanctuary 5450 7th Street\, Keyes\, CA  95328
SUMMARY:Saturday 9AM Prayer Hour
URL;VALUE=URI:https://havenofhopekeyes.org/events/saturday-9am-prayer-hour/
 2026-10-10
END:VEVENT
END:VCALENDAR
