BEGIN:VCALENDAR
VERSION:2.0
PRODID:icalendar-ruby
CALSCALE:GREGORIAN
METHOD:PUBLISH
BEGIN:VEVENT
DTSTAMP:20260424T195842Z
UID:89-1735818@havenofhopekeyes.org
DTSTART:20261024T160000Z
DTEND:20261024T170000Z
CLASS:PUBLIC
CREATED:20260424T105221
DESCRIPTION:
LAST-MODIFIED:20260424T105221
LOCATION:Sanctuary 5450 7th Street\, Keyes\, CA  95328
SUMMARY:Saturday 9AM Prayer Hour
URL;VALUE=URI:https://havenofhopekeyes.org/events/saturday-9am-prayer-hour/
 2026-10-24
END:VEVENT
END:VCALENDAR
