BEGIN:VCALENDAR
VERSION:2.0
PRODID:icalendar-ruby
CALSCALE:GREGORIAN
METHOD:PUBLISH
BEGIN:VEVENT
DTSTAMP:20260423T093412Z
UID:49-1727258@havenofhopekeyes.org
DTSTART:20260628T163000Z
DTEND:20260628T173000Z
CLASS:PUBLIC
CREATED:20260422T194212
DESCRIPTION:Sunday School
LAST-MODIFIED:20260422T194212
LOCATION:5450 7th Street\, Keyes\, CA  95328
SUMMARY:Sunday School
URL;VALUE=URI:https://havenofhopekeyes.org/events/sunday-school/2026-06-28
END:VEVENT
END:VCALENDAR
