BEGIN:VCALENDAR
VERSION:2.0
PRODID:icalendar-ruby
CALSCALE:GREGORIAN
METHOD:PUBLISH
BEGIN:VEVENT
DTSTAMP:20260423T132756Z
UID:49-1728197@havenofhopekeyes.org
DTSTART:20260712T163000Z
DTEND:20260712T173000Z
CLASS:PUBLIC
CREATED:20260423T051231
DESCRIPTION:Sunday School
LAST-MODIFIED:20260423T051231
LOCATION:5450 7th Street\, Keyes\, CA  95328
SUMMARY:Sunday School
URL;VALUE=URI:https://havenofhopekeyes.org/events/sunday-school/2026-07-12
END:VEVENT
END:VCALENDAR
