BEGIN:VCALENDAR
VERSION:2.0
PRODID:icalendar-ruby
CALSCALE:GREGORIAN
METHOD:PUBLISH
BEGIN:VEVENT
DTSTAMP:20260423T153356Z
UID:49-1729135@havenofhopekeyes.org
DTSTART:20260719T163000Z
DTEND:20260719T173000Z
CLASS:PUBLIC
CREATED:20260423T080514
DESCRIPTION:Sunday School
LAST-MODIFIED:20260423T080514
LOCATION:5450 7th Street\, Keyes\, CA  95328
SUMMARY:Sunday School
URL;VALUE=URI:https://havenofhopekeyes.org/events/sunday-school/2026-07-19
END:VEVENT
END:VCALENDAR
