BEGIN:VCALENDAR
VERSION:2.0
PRODID:icalendar-ruby
CALSCALE:GREGORIAN
METHOD:PUBLISH
BEGIN:VEVENT
DTSTAMP:20260423T231157Z
UID:49-1731013@havenofhopekeyes.org
DTSTART:20260816T163000Z
DTEND:20260816T173000Z
CLASS:PUBLIC
CREATED:20260423T135647
DESCRIPTION:Sunday School
LAST-MODIFIED:20260423T135647
LOCATION:5450 7th Street\, Keyes\, CA  95328
SUMMARY:Sunday School
URL;VALUE=URI:https://havenofhopekeyes.org/events/sunday-school/2026-08-16
END:VEVENT
END:VCALENDAR
