BEGIN:VCALENDAR
VERSION:2.0
PRODID:icalendar-ruby
CALSCALE:GREGORIAN
METHOD:PUBLISH
BEGIN:VEVENT
DTSTAMP:20260424T011840Z
UID:49-1731951@havenofhopekeyes.org
DTSTART:20260823T163000Z
DTEND:20260823T173000Z
CLASS:PUBLIC
CREATED:20260423T165008
DESCRIPTION:Sunday School
LAST-MODIFIED:20260423T165008
LOCATION:5450 7th Street\, Keyes\, CA  95328
SUMMARY:Sunday School
URL;VALUE=URI:https://havenofhopekeyes.org/events/sunday-school/2026-08-23
END:VEVENT
END:VCALENDAR
