BEGIN:VCALENDAR
VERSION:2.0
PRODID:icalendar-ruby
CALSCALE:GREGORIAN
METHOD:PUBLISH
BEGIN:VEVENT
DTSTAMP:20260424T180333Z
UID:49-1735709@havenofhopekeyes.org
DTSTART:20261018T163000Z
DTEND:20261018T173000Z
CLASS:PUBLIC
CREATED:20260424T105220
DESCRIPTION:Sunday School
LAST-MODIFIED:20260424T105220
LOCATION:5450 7th Street\, Keyes\, CA  95328
SUMMARY:Sunday School
URL;VALUE=URI:https://havenofhopekeyes.org/events/sunday-school/2026-10-18
END:VEVENT
END:VCALENDAR
