BEGIN:VCALENDAR
VERSION:2.0
PRODID:icalendar-ruby
CALSCALE:GREGORIAN
METHOD:PUBLISH
BEGIN:VEVENT
DTSTAMP:20260424T211045Z
UID:49-1736649@havenofhopekeyes.org
DTSTART:20261101T173000Z
DTEND:20261101T183000Z
CLASS:PUBLIC
CREATED:20260424T133945
DESCRIPTION:Sunday School
LAST-MODIFIED:20260424T133945
LOCATION:5450 7th Street\, Keyes\, CA  95328
SUMMARY:Sunday School
URL;VALUE=URI:https://havenofhopekeyes.org/events/sunday-school/2026-11-01
END:VEVENT
END:VCALENDAR
