BEGIN:VCALENDAR
VERSION:2.0
PRODID:icalendar-ruby
CALSCALE:GREGORIAN
METHOD:PUBLISH
BEGIN:VEVENT
DTSTAMP:20260423T214343Z
UID:5-1730562@havenofhopekeyes.org
DTSTART:20260816T180000Z
DTEND:20260816T193000Z
CLASS:PUBLIC
CREATED:20260423T135646
DESCRIPTION:Sunday Worship
LAST-MODIFIED:20260423T135646
LOCATION:5450 7th Street\, Keyes\, CA  95328
SUMMARY:Sunday Worship
URL;VALUE=URI:https://havenofhopekeyes.org/events/sunday-worship/2026-08-16
END:VEVENT
END:VCALENDAR
