BEGIN:VCALENDAR
VERSION:2.0
PRODID:icalendar-ruby
CALSCALE:GREGORIAN
METHOD:PUBLISH
BEGIN:VEVENT
DTSTAMP:20260424T015459Z
UID:5-1731501@havenofhopekeyes.org
DTSTART:20260830T180000Z
DTEND:20260830T193000Z
CLASS:PUBLIC
CREATED:20260423T165006
DESCRIPTION:Sunday Worship
LAST-MODIFIED:20260423T165006
LOCATION:5450 7th Street\, Keyes\, CA  95328
SUMMARY:Sunday Worship
URL;VALUE=URI:https://havenofhopekeyes.org/events/sunday-worship/2026-08-30
END:VEVENT
END:VCALENDAR
