BEGIN:VCALENDAR
VERSION:2.0
PRODID:icalendar-ruby
CALSCALE:GREGORIAN
METHOD:PUBLISH
BEGIN:VEVENT
DTSTAMP:20260424T120957Z
UID:5-1732443@havenofhopekeyes.org
DTSTART:20261004T180000Z
DTEND:20261004T193000Z
CLASS:PUBLIC
CREATED:20260423T194422
DESCRIPTION:Sunday Worship
LAST-MODIFIED:20260423T194422
LOCATION:5450 7th Street\, Keyes\, CA  95328
SUMMARY:Sunday Worship
URL;VALUE=URI:https://havenofhopekeyes.org/events/sunday-worship/2026-10-04
END:VEVENT
END:VCALENDAR
