BEGIN:VCALENDAR
VERSION:2.0
PRODID:icalendar-ruby
CALSCALE:GREGORIAN
METHOD:PUBLISH
BEGIN:VEVENT
DTSTAMP:20260424T142818Z
UID:5-1733381@havenofhopekeyes.org
DTSTART:20261011T180000Z
DTEND:20261011T193000Z
CLASS:PUBLIC
CREATED:20260424T051245
DESCRIPTION:Sunday Worship
LAST-MODIFIED:20260424T051245
LOCATION:5450 7th Street\, Keyes\, CA  95328
SUMMARY:Sunday Worship
URL;VALUE=URI:https://havenofhopekeyes.org/events/sunday-worship/2026-10-11
END:VEVENT
END:VCALENDAR
