BEGIN:VCALENDAR
VERSION:2.0
PRODID:icalendar-ruby
CALSCALE:GREGORIAN
METHOD:PUBLISH
BEGIN:VEVENT
DTSTAMP:20260424T162218Z
UID:5-1734320@havenofhopekeyes.org
DTSTART:20261018T180000Z
DTEND:20261018T193000Z
CLASS:PUBLIC
CREATED:20260424T080537
DESCRIPTION:Sunday Worship
LAST-MODIFIED:20260424T080537
LOCATION:5450 7th Street\, Keyes\, CA  95328
SUMMARY:Sunday Worship
URL;VALUE=URI:https://havenofhopekeyes.org/events/sunday-worship/2026-10-18
END:VEVENT
END:VCALENDAR
