BEGIN:VCALENDAR
VERSION:2.0
PRODID:icalendar-ruby
CALSCALE:GREGORIAN
METHOD:PUBLISH
BEGIN:VEVENT
DTSTAMP:20260424T181558Z
UID:5-1735259@havenofhopekeyes.org
DTSTART:20261025T180000Z
DTEND:20261025T193000Z
CLASS:PUBLIC
CREATED:20260424T105219
DESCRIPTION:Sunday Worship
LAST-MODIFIED:20260424T105219
LOCATION:5450 7th Street\, Keyes\, CA  95328
SUMMARY:Sunday Worship
URL;VALUE=URI:https://havenofhopekeyes.org/events/sunday-worship/2026-10-25
END:VEVENT
END:VCALENDAR
